BEGIN:VCALENDAR
VERSION:2.0
CALSCALE:GREGORIAN
PRODID:-//MyApp//Calendar 1.0//EN
BEGIN:VEVENT
METHOD:PUBLISH
UID:32097@regionalniportaly.cz
DTSTAMP:20260421T231451Z
DTSTART;VALUE=DATE:20230616
DTEND;VALUE=DATE:20230617
SUMMARY:Festival Mezi Sklepy 2023
DESCRIPTION:Další ročník ojedinělého festivalu otevřených mutěnických sklepů s dvoudenním doprovodným hudebním multižánrovým programem se blíží.Festival Mezi Sklepy je akce\, která nemá na Jižní Moravě obdoby.Otevřeno bude přes 50 vinných sklepů v mutěnickém sklepním areálu Pod Búdama\, kde je soustředěno více jak 500 vinných sklepů.Všichni\, kteří se minulého ročníku zúčastnili\, tuto jedinečnou atmosféru již zažili. V letošním roce jsme připravili v první vlně bezkonkurenční cenu za V.I.P. GOLDEN TICKET s nadupaným hudebním programem.Hlavním cílem festivalu Mezi Sklepy je propojení dobrého moravského vína a nejrůznějších hudebních žánrů\, podpora místních vinařů\, místních tradic a setkání dobrých a pohodových lidí a podpora cestovního ruchu v Mutěnicích. V průběhu festivalu bude probíhat ochutnávka a prodej vín\, řemeslný jarmark a doprovodný program pro dospělé a mládež.
LOCATION:Mutěnice
END:VEVENT
END:VCALENDAR