BEGIN:VCALENDAR
VERSION:2.0
CALSCALE:GREGORIAN
PRODID:-//MyApp//Calendar 1.0//EN
BEGIN:VEVENT
METHOD:PUBLISH
UID:32117@regionalniportaly.cz
DTSTAMP:20260422T085219Z
DTSTART;VALUE=DATE:20230915
DTEND;VALUE=DATE:20230916
SUMMARY:Hody s IMT Smile
DESCRIPTION:Oslavte hodovní páteční večer v Lanžhotě s rockovou kapelou IMT Smile na stadionu Sokolské v Lanžhotě. After Party s domácí skupinou FIVE LIVE - Rock Cover Band
LOCATION:Lanžhot
END:VEVENT
END:VCALENDAR