BEGIN:VCALENDAR
VERSION:2.0
CALSCALE:GREGORIAN
PRODID:-//MyApp//Calendar 1.0//EN
BEGIN:VEVENT
METHOD:PUBLISH
UID:32144@regionalniportaly.cz
DTSTAMP:20260422T005222Z
DTSTART;VALUE=DATE:20230804
DTEND;VALUE=DATE:20230805
SUMMARY:Beseda u Bigbítu 2023
DESCRIPTION:Jubilejní 30. ročník multižánrového festivalu Beseda u Bigbítu se uskuteční od 4. do 5. srpna 2023 v areálu&nbsp\;Topolového&nbsp\;hájku v Tasově u Veselí nad Moravou.
LOCATION:Tasov
END:VEVENT
END:VCALENDAR