BEGIN:VCALENDAR
VERSION:2.0
CALSCALE:GREGORIAN
PRODID:-//MyApp//Calendar 1.0//EN
BEGIN:VEVENT
METHOD:PUBLISH
UID:32182@regionalniportaly.cz
DTSTAMP:20260421T220910Z
DTSTART;VALUE=DATE:20230422
DTEND;VALUE=DATE:20230423
SUMMARY:1. Výstava vín Trojzemí
DESCRIPTION:1. Výstava vín Trojzemí – mezinárodní výstava vín poprvé v Hodoníně! Přijďte okoštovat moravská\, rakouská a slovenská vína.&nbsp\;&nbsp\;&nbsp\;Spolky HOKS a Jsme Hodoňáci vás zvou na veřejnosti otevřenou výstavu vín\, která proběhne v sobotu 22. dubna od 14 hodin v Domě kultury Hodonín. Přijďte ochutnat šampióna mezi několika stovkami vín z moravských\, rakouských a slovenských vinařství i od menších vinařů.&nbsp\;Těšit se můžete na:- stovky vín z Moravy\, Rakouska a Slovenska&nbsp\;- cimbálovou muziku- chutné občerstvení- příjemné posezení vevnitř i venku- pohodové chvilky při koštování&nbsp\;Láká vás ochutnat vína napříč třemi státy? Pak na Výstavě vín Trojzemí nemůžete chybět!
LOCATION:Hodonín
END:VEVENT
END:VCALENDAR