BEGIN:VCALENDAR
VERSION:2.0
CALSCALE:GREGORIAN
PRODID:-//MyApp//Calendar 1.0//EN
BEGIN:VEVENT
METHOD:PUBLISH
UID:32189@regionalniportaly.cz
DTSTAMP:20260421T220901Z
DTSTART;VALUE=DATE:20230701
DTEND;VALUE=DATE:20230702
SUMMARY:St. Johann Fest 2023
DESCRIPTION:2.ročník letního festivalu vín v Kurdějově.Na až 11ti stanovištích ochutnáte vína místních vinařů a vinařů spjatých s Kurdějovem. Navštívíte naši sklepní uličku\, nasajete atmosféru farního sklepa\, nebo si prostě ochutnejte vína v ArtWine Hall. Máte možnost zakoupit vstupenky za nejvýhodnější předprodejovou cenu na festival nejen kurdějovských vín a oslavu svátku Jana Křtitele patrona kurdějovského kostela.Máte možnost zakoupit vstupenky za nejvýhodnější předprodejovou cenu&nbsp\;na festival nejen kurdějovských vín a oslavu&nbsp\;svátku Jana Křtitele patrona kurdějovského kostela.Programu a&nbsp\;vystavující&nbsp\;vinařství budeme postupně představovat na Facebooku a Instagramu.Cena vstupenky: 500\,- Kč\, v ceně vstupenky je zahrnuto\, sklenka\, tužka\, mapka\, vstup na večerní program\, NFCtrin čip pro nabíjení kreditů (cena&nbsp\; vstupenky na místě je stejná)
LOCATION:Kurdějov
END:VEVENT
END:VCALENDAR