BEGIN:VCALENDAR
VERSION:2.0
CALSCALE:GREGORIAN
PRODID:-//MyApp//Calendar 1.0//EN
BEGIN:VEVENT
METHOD:PUBLISH
UID:32209@regionalniportaly.cz
DTSTAMP:20260422T005302Z
DTSTART;VALUE=DATE:20230701
DTEND;VALUE=DATE:20230702
SUMMARY:Léto v LA začíná Na Šlajsi
DESCRIPTION:Léto v Lanžhotě začíná koncertem ve fotbalovém areálu Na Šlajsi. Vystoupí kapely&nbsp\;Katarina Knechtová\, Five Live\, Šrouby a Matice (revival Mandrage) a DJ Jirka Benada.&nbsp\;
LOCATION:Lanžhot
END:VEVENT
END:VCALENDAR