BEGIN:VCALENDAR
VERSION:2.0
CALSCALE:GREGORIAN
PRODID:-//MyApp//Calendar 1.0//EN
BEGIN:VEVENT
METHOD:PUBLISH
UID:32318@regionalniportaly.cz
DTSTAMP:20260421T220920Z
DTSTART;VALUE=DATE:20230526
DTEND;VALUE=DATE:20230527
SUMMARY:Monika Bagárová
DESCRIPTION:Talentovaná zpěvačka MONIKA BAGÁROVÁ premiérově vystoupý&nbsp\;v Retro Clubu v Zaječí. Nenechte si ujít její hity Viva la vida\, Amen\, Zůstaň se mnou a další naživo!&nbsp\;Za mixem DJ PMC
LOCATION:Zaječí
END:VEVENT
END:VCALENDAR