BEGIN:VCALENDAR
VERSION:2.0
CALSCALE:GREGORIAN
PRODID:-//MyApp//Calendar 1.0//EN
BEGIN:VEVENT
METHOD:PUBLISH
UID:32368@regionalniportaly.cz
DTSTAMP:20260422T010138Z
DTSTART;VALUE=DATE:20230923
DTEND;VALUE=DATE:20230924
SUMMARY:17. HLOHOVECKÉ VINOBRANÍ / No Name - Duo Jamaha - The People
DESCRIPTION:Spolek Hlohovčané\, Obec Hlohovec a Sdružení hlohoveckých vinařů&nbsp\;Vás společně zvou na17. HLOHOVECKÉ VINOBRANÍkteré se bude konat v sobotu 23. září 2023 od 15:00 před místním kulturním domem v Hlohovci.Můžete se těšit na originální moravský energy drink „burčák“ a vína přímo od hlohoveckých vinařů\, bohatý kulturní program\, atrakce pro děti\, stánky se specialitami pro gurmány.V programu se můžete těšit na skvělý kulturní program a kapelyNO NAME / pop rockDUO JAMAHA / pop zábava&nbsp\;THE PEOPLE / pop jazzTřísesterská Revival-bandaFolklorní souboryCM KamenicaLohovecké dětia další spousta zábavyA nejen pro děti přijede legendární Lunapark Rudy KučeryVstupné na místě 500 KčČasový harmonogram akce :15:00 Zahájení15:10-16:30 Folklorní pásmo- Cimbálová muzika Kamenica- folklorní soubory- Místní soubor Lohovecké děti s doprovodem cimbálové muziky&nbsp\;16:30 - 17:30 DUO JAMAHA18:00 - 19:00 THE PEOPLE20:00 - 21:00 NO NAME21:45 - 22:45 TŘÍSESTERSKÁ REVIVAL-BANDA22:45 - 1:00 DJ&nbsp\;Těšíme se na Vás&nbsp\;&nbsp\;Vaši Hlohovčané
LOCATION:Hlohovec
END:VEVENT
END:VCALENDAR