BEGIN:VCALENDAR
VERSION:2.0
CALSCALE:GREGORIAN
PRODID:-//MyApp//Calendar 1.0//EN
BEGIN:VEVENT
METHOD:PUBLISH
UID:32463@regionalniportaly.cz
DTSTAMP:20260421T224233Z
DTSTART;VALUE=DATE:20230721
DTEND;VALUE=DATE:20230722
SUMMARY:Rockové zpívánky Kobeřice
DESCRIPTION:Představujeme 2. ročník rockového festivalu Zpívánky v Kobeřicích u Brna\, který bude letos dvoudenní.V pátek a sobotu tak&nbsp\;na vás čeká velká porce rockové a metalové muziky známých i méně známych kapel\, kterých letos na festivalu vystoupí rekordní počet.Zejména přespolním návštěvníkům bude k dispozici v ceně vstupenky i stanové městečko.I letos bude pro návštěvníky připraveno pestré občerstvení za přijatelné&nbsp\;ceny.Děti do 12ti let v doprovodu dospělé osoby mají vstup zdarma.
LOCATION:Kobeřice u Brna
END:VEVENT
END:VCALENDAR