BEGIN:VCALENDAR
VERSION:2.0
CALSCALE:GREGORIAN
PRODID:-//MyApp//Calendar 1.0//EN
BEGIN:VEVENT
METHOD:PUBLISH
UID:32861@regionalniportaly.cz
DTSTAMP:20260421T221803Z
DTSTART;VALUE=DATE:20230630
DTEND;VALUE=DATE:20230701
SUMMARY:Monkey Business na Amfíku Bukovina
DESCRIPTION:MONKEY BUSINESSDomácí uskupení Monkey Business je dalším projektem hudebníka Romana Holého ve kterém snoubí to nejlepší u funku a popu! Za mikrofonem neuvěřitelní&nbsp\;Matěj Ruppert a Tereza Černochová! Hity My Friends nebo Piece of my Life mluví za vše!
LOCATION:Popovice
END:VEVENT
END:VCALENDAR