BEGIN:VCALENDAR
VERSION:2.0
CALSCALE:GREGORIAN
PRODID:-//MyApp//Calendar 1.0//EN
BEGIN:VEVENT
METHOD:PUBLISH
UID:33073@regionalniportaly.cz
DTSTAMP:20260422T113817Z
DTSTART;VALUE=DATE:20230603
DTEND;VALUE=DATE:20230604
SUMMARY:Letní otevřené sklepy 2023
DESCRIPTION:Spolek brumovických vinařů srdečně zve všechny přátele a milovníky vína na 14. ročník akce Den otevřených sklepů\, která se koná v sobotu 3. června od 11 do 19 hodin.\nMimo vína se letos můžete těšit také na stanoviště s občerstvením\, mezi kterými nebudou chybět ani poctivé domácí burgery! Nebude chybět Lion Bistro z Vrbice\, grilovaná kýta od Vinařství Burešovi\, výborná domácí pizza od Hospody u hřiště nebo domácí sandwiche s uzeným masem od Vinařství Senline.\nCena vstupného:\n\nV předprodeji 550 Kč\nNa místě 600 Kč\n\nV ceně vstupenky je neomezená ochutnávka vín u vinařů\, občerstvení\, 2 kupóny v hodnotě 100 Kč/ks na nákup vína v láhvích.————–Brumovičtí vinaři – to jsou rodinná vinařství dodržující tradice zpracování vína.Brumovice najdete asi 6 km jihovýchodně od Klobouk u Brna. Vinařská obec spadá pod Velkopavlovickou podoblast a zasahuje i do oblasti tzv. Modrých hor a již z názvu je patrné\, že se u nás daří především červeným odrůdám. Milovníci bílého vína si zde ale rozhodně také přijdou na své\, protože se zde daří i Ryzlinku vlašskému\, Tramínu červenému nebo Neuburgu.Vinaři:\n\nPetr Cichra\nDaniel Kurečka\nAntonín Košulič\nMilan Krátký\nFrantišek Ševela\nTomáš Fiala\nMiroslav Veselý\nZdeněk Musil\nVavřinec Charvát\nRudolf Kadlec\nJiří Jakubčík\nZdeněk Jakubčík\nJaroslav Bureš\nZdeněk Mach\nVlastimil Herzán\n
LOCATION:Brumovice
END:VEVENT
END:VCALENDAR