BEGIN:VCALENDAR
VERSION:2.0
CALSCALE:GREGORIAN
PRODID:-//MyApp//Calendar 1.0//EN
BEGIN:VEVENT
METHOD:PUBLISH
UID:33321@regionalniportaly.cz
DTSTAMP:20260421T232955Z
DTSTART;VALUE=DATE:20230701
DTEND;VALUE=DATE:20230702
SUMMARY:Folklorní večer - Slovácké léto 2023
DESCRIPTION:Folklor a Slovácké léto k sobě patří. I letos se můžete těšit na večer plný tradičních tanců a přehlídky cimbálových muzik. Dobrých ludí a vína bude dost!V programu vystoupí:Folklórní studio Buchlovice:Taneční soubor&nbsp\;Mužský sborCimbálová muzika Rubáš&nbsp\;Tanečníci z Folklórní souboru Chasa z Ořechova&nbsp\;Cimbálová muzika Oskoruša&nbsp\;&nbsp\;Po skončení programu následuje beseda u cimbálu s CM Oskoruša.
LOCATION:Uherské Hradiště
END:VEVENT
END:VCALENDAR