BEGIN:VCALENDAR
VERSION:2.0
CALSCALE:GREGORIAN
PRODID:-//MyApp//Calendar 1.0//EN
BEGIN:VEVENT
METHOD:PUBLISH
UID:33322@regionalniportaly.cz
DTSTAMP:20260421T233802Z
DTSTART;VALUE=DATE:20230708
DTEND;VALUE=DATE:20230709
SUMMARY:Stand-up Comedy Show (Géryk\, Macháček\, Hašková) - Slovácké léto 2023
DESCRIPTION:Dovede si představit léto bez smíchu? I letos rozesměje Slovácké léto stand-up comedy show. Pravidla standupu jsou jednoduchá. Komik\, mikrofon a touha rozesmát diváky.Tentokrát do Uherského Hradiště na Kolejní nádvoří přijede Honza Géryk\, absolvent práv a amerických studií Univerzity Karlovy a doktorand politologie a sociologie. Dokonale splňuje požadavky na chytrého a vtipného muže.Neméně vtipný je i komik\, scénárista a tak dále Libor Macháček. Libor je z Brna. Takže to nebude mít daleko.Doplní je inventář (a také moderátorka) Slováckého léta Kateřina Hašková. Ta si vtipy vymýšlet nemusí\, její život je jeden velký vtip.Přijďte se podívat na tuto zdánlivě nesourodou trojici\, která se ale královsky doplňuje. Na vás už jen bude\, abyste se královsky bavili. (A koupili si lístky!)* Show není vhodná pro děti a mladistvé *
LOCATION:Uherské Hradiště
END:VEVENT
END:VCALENDAR