BEGIN:VCALENDAR
VERSION:2.0
CALSCALE:GREGORIAN
PRODID:-//MyApp//Calendar 1.0//EN
BEGIN:VEVENT
METHOD:PUBLISH
UID:33334@regionalniportaly.cz
DTSTAMP:20260421T232850Z
DTSTART;VALUE=DATE:20230702
DTEND;VALUE=DATE:20230703
SUMMARY:Argema + Street69 (VIP zóna) - Slovácké léto 2023
DESCRIPTION:Argema je domácí stálice nejen Slováckého léta a nejen Slovácka. Její koncerty jsou vždy nabité energií a nesmrtelnými hity. Letos je doprovodí Street69 a 3LO3. A vy máte možnost vychutnat si koncert z pohodlí VIP zóny pro pouhých 50 diváků a k tomu si dát pivo nebo víno.&nbsp\;
LOCATION:Uherské Hradiště
END:VEVENT
END:VCALENDAR