BEGIN:VCALENDAR
VERSION:2.0
CALSCALE:GREGORIAN
PRODID:-//MyApp//Calendar 1.0//EN
BEGIN:VEVENT
METHOD:PUBLISH
UID:33429@regionalniportaly.cz
DTSTAMP:20260422T005242Z
DTSTART;VALUE=DATE:20230705
DTEND;VALUE=DATE:20230706
SUMMARY:Mňága a Žďorp (VIP zóna) - Slovácké léto 2023
DESCRIPTION:Že bychom vás letos ochudili o Hodinový hotel? To vám nemůžeme udělat. Z Valach znovu dorazí legendární Mňága a Žďorp! Pokud preferujete užít s koncert v klidu a pohodě\, využijte možnost vstupu do VIP zóny pro omezený počet návštěvníků a zpříjemněte si večer vínem či oroseným pivem. Mňágu a Žďorp navíc doplní talentovaná kapela Křídla\, i ty můžete sledovat z VIP zóny.
LOCATION:Uherské Hradiště
END:VEVENT
END:VCALENDAR