BEGIN:VCALENDAR
VERSION:2.0
CALSCALE:GREGORIAN
PRODID:-//MyApp//Calendar 1.0//EN
BEGIN:VEVENT
METHOD:PUBLISH
UID:33583@regionalniportaly.cz
DTSTAMP:20260421T232830Z
DTSTART;VALUE=DATE:20230902
DTEND;VALUE=DATE:20230903
SUMMARY:Podzimní otevřené sklepy Brumovice
DESCRIPTION:2. září od 11 do 19 hodin&nbsp\;otevřou&nbsp\;své&nbsp\;sklepy&nbsp\;brumovští&nbsp\;vinaři\, kteří Vám nabídnou svá osobitá vína typická pro oblast tzv. Modrých hor a Kloboucka.3. září budou od 9&nbsp\;do 12 hodin budou vinaři k dispozici pro prodej vín. :)Cena vstupenek:Předprodej =&gt\; 550 Kč Zvýhodněná cena bude dostupná pouze do 28.8.Na místě ve vestibulu radnice&nbsp\;=&gt\; 700 Kč​​Vstupenky na místě lze koupit v čase od 11&nbsp\;do 16&nbsp\;hodinV ceně vstupenky je:neomezená degustace vín ve sklepech2x kupón na nákup vína v hodnotě 100 Kčmalé občerstvení u každého vinařemapka a soupis vín jednotlivých vinařstvísklenička s nosičkoupropiska na poznámkyNa co se můžete těšit?&nbsp\;Osobitý přístup vinařůVětší autenticita&nbsp\;malovinařů - narazíte na malovinařské technologie\, přírodní vína\, oranžová vína nebo frizzanteNěkteří naši vinaři již budou nabízet první burčákMimo vína si budete moct koupit skvělá domácí jídla - guláš\, polévku\, pizzu\, burgery s trhaným masem\, grilovanou kýtu nebo sandwiche. Ve sklepích narazíte i na dobrou kávu a sladké dezerty.Vinařská obec Brumovice / vinaři z BrumovicSpadají pod Velkopavlovickou vinařskou podoblastNachází se na hranici s tzv. Modrými horami (Vrbice\, Kobylí\, Němčičky)Patří do mikroregionu Hustopečsko a Kloboucko a oblasti zvané Hanácké SlováckoDíky černozemi&nbsp\;se zde daří červeným odrůdám jako je Frankovka\, Rulandské modré\, Merlot nebo oblíbený DornfelderBrumovské vinohrady leží též na spraších a vápencovité půdě\, která dává krásnou mineralitu Ryzlinku vlašskému\, Vetlínu nebo Burgundským odrůdámWeb vinařů z Brumovic
LOCATION:Brumovice
END:VEVENT
END:VCALENDAR