BEGIN:VCALENDAR
VERSION:2.0
CALSCALE:GREGORIAN
PRODID:-//MyApp//Calendar 1.0//EN
BEGIN:VEVENT
METHOD:PUBLISH
UID:33599@regionalniportaly.cz
DTSTAMP:20260421T191812Z
DTSTART;VALUE=DATE:20230722
DTEND;VALUE=DATE:20230723
SUMMARY:ABBA WORLD Revival
DESCRIPTION:ABBA WORLD Revival&nbsp\;z Prahy je&nbsp\;je&nbsp\;desetičlenný soubor&nbsp\;složený z&nbsp\;profesionálních hudebníků\, které svedl dohromady obdiv k tvorbě světoznámé švédské skupiny&nbsp\;ABBA.ABBA WORLD Revival&nbsp\;Vám nabízí originální provedení repertoáru slavné hudební formace a naše vystoupení je&nbsp\;100% živá show-produkce deseti hudebníků. Repertoár zahrnuje&nbsp\;přes 30 nejznámějších písní švédské legendární mega-skupiny 70-tých a 80-tých let\, které byly nastudovány nejen podle studiových nahrávek\, ale i podle audio a video nahrávek živých vystoupení skupiny&nbsp\;ABBA\, což zaručuje jak přesnost hudebního provedení\, tak i&nbsp\;dokonalé vystižení nálady a atmosféry každé jednotlivé skladby.&nbsp\;Vlastní produkce je&nbsp\;dokonalou&nbsp\;živou interpretací skladeb ABBA na špičkové úrovni\, včetně dokonalé image\, dobových kostýmů a pódiové choreografie.ABBA WORLD Revival představuje absolutní světovou špičku&nbsp\;tohoto hudebního oboru a naše vystoupení může být&nbsp\;ozdobou Vaší akce&nbsp\;a jistě nadchne každého posluchače bez rozdílu věku!
LOCATION:Buchlovice
END:VEVENT
END:VCALENDAR