BEGIN:VCALENDAR
VERSION:2.0
CALSCALE:GREGORIAN
PRODID:-//MyApp//Calendar 1.0//EN
BEGIN:VEVENT
METHOD:PUBLISH
UID:33779@regionalniportaly.cz
DTSTAMP:20260422T023147Z
DTSTART;VALUE=DATE:20230720
DTEND;VALUE=DATE:20230721
SUMMARY:KACZI - Koncert s vínem
DESCRIPTION:Po úspěšných koncertech&nbsp\;písničkářky a multiinstrumentalistky&nbsp\;Kaczi&nbsp\;na horách napříč republikou\, vyrážíme do vinařství&nbsp\;AnnoVino! Letní koncert s vínem&nbsp\;vyvrcholí&nbsp\;ve čtvrtek&nbsp\;20.7.2023 ve 20h.&nbsp\;Máte rádi víno a dobrou zábavu? Neváhejte si chytnout své místečko a připijte si s námi na zdraví!Ve spolupráci s AnnoVino společně zveme všechny&nbsp\;milovníky vína a hudby na tento&nbsp\;neopakovatelný&nbsp\;zážitek!Těšíme se na vás!Kaczi &amp\; family
LOCATION:Lednice
END:VEVENT
END:VCALENDAR