BEGIN:VCALENDAR
VERSION:2.0
CALSCALE:GREGORIAN
PRODID:-//MyApp//Calendar 1.0//EN
BEGIN:VEVENT
METHOD:PUBLISH
UID:33786@regionalniportaly.cz
DTSTAMP:20260421T232840Z
DTSTART;VALUE=DATE:20230909
DTEND;VALUE=DATE:20230910
SUMMARY:Putování za burčákem po Modrých Horách
DESCRIPTION:Jak název akce napovídá\, jedná se o putování (nejen) mezi vinohrady\, od jednoho razítkovacího místa ke druhému. Do mapky (která je součástí balíčku)&nbsp\;budete na zadní straně "sbírat" razítka a ještě k tomu na každém razítkovacím místě zdarma dostanete 0\,5 dl&nbsp\;burčáku k ochutnání. Jestli zvolíte kolo nebo chůzi\, to záleží pouze na vás\, nejde zase o tak náročný terén. Na jednotlivých razítkovacích místech se můžete občerstvit co hrdlo ráčí.Pokud budete šikovní a podaří se vám navštívit téměř všechna razítkovací místa získáte "pamětní list" \, abyste na nás nezapomněli a zase za rok si to zopakovali. Pamětní list je k vyzvednutí na starovacích místech v obcích a také v cíli do 20h.DEN KONÁNÍ AKCEsobota 9. září 2023&nbsp\;- venkovní areál Ekocentra Trkmanka ve Velkých Pavlovicích_______________________________________________________________________________________OFICIÁLNÍ STARTVelké Pavlovice - v 9:00 hodin - Ekocentrum Trkmanka V.P.(start je pohodový - relaxační - putování není na čas - je možné startovat i z kterékoli obce Modrých Hor\, kde je možné zakoupit startovací balíček\, níže jsou tyto místa uvedena)OFICIÁLNÍ CÍLVelké Pavlovice - 14:00 až 20:00 hodin - Ekocentrum Trkmanka V.P._______________________________________________________________________________________RAZÍTKOVACÍ MÍSTA&nbsp\;- kontakty a gastrozážitky na trase budou včas zveřejněny/r.m. budou otevřena od 9:00 hod. do 18:00 hod./
LOCATION:Velké Pavlovice
END:VEVENT
END:VCALENDAR