BEGIN:VCALENDAR
VERSION:2.0
CALSCALE:GREGORIAN
PRODID:-//MyApp//Calendar 1.0//EN
BEGIN:VEVENT
METHOD:PUBLISH
UID:34009@regionalniportaly.cz
DTSTAMP:20260422T005252Z
DTSTART;VALUE=DATE:20230707
DTEND;VALUE=DATE:20230708
SUMMARY:G.J.Clark & WBand (RSA/CZ)
DESCRIPTION:Koncert bluesrokové legendy&nbsp\;​G.J.Clark &amp\; WBand (RSA/CZ)&nbsp\;v letním kině ve Strážnici.
LOCATION:Strážnice
END:VEVENT
END:VCALENDAR