BEGIN:VCALENDAR
VERSION:2.0
CALSCALE:GREGORIAN
PRODID:-//MyApp//Calendar 1.0//EN
BEGIN:VEVENT
METHOD:PUBLISH
UID:34014@regionalniportaly.cz
DTSTAMP:20260421T191034Z
DTSTART;VALUE=DATE:20230722
DTEND;VALUE=DATE:20230723
SUMMARY:Veselí Jazz - Marek Kotača Improband
DESCRIPTION:Skupina Marek Kotača Improband zahraje v sobotu 22. července od 20:00 na podiu před letním kinem Strážnice. Všichni jste zváni. Vezměte přátele\, přítele\, přítelkyně\, rodiče\, bude se Vám to jistě líbit! Těšíme se na Vás!
LOCATION:Strážnice
END:VEVENT
END:VCALENDAR