BEGIN:VCALENDAR
VERSION:2.0
CALSCALE:GREGORIAN
PRODID:-//MyApp//Calendar 1.0//EN
BEGIN:VEVENT
METHOD:PUBLISH
UID:34025@regionalniportaly.cz
DTSTAMP:20260421T220938Z
DTSTART;VALUE=DATE:20230825
DTEND;VALUE=DATE:20230826
SUMMARY:Obludov - představení Dejvického divadla
DESCRIPTION:Hra nejslavnějšího bludovského literáta Jaroslava Žváčka\, držitele ceny Magnesia Litera\, o poměrech v zapadákově. Nekorektně vtipná sociální sonda z míst\, kam oko „pražské kavárny“ nedohlédne.Obec Bludov. Ctihodný občan cikán Kraken nechce už pouštět nezletilé do svého klubu Domino. Bludovská koalice katolíků a komunistů si totiž stěžuje na jejich opilost. Navíc mu tam ti nezletilí svádí a przní obézní holky z nedalekých lázní. Pepa je kvůli tomu pěkně naštvaný. Je zvyklý se v Dominu opíjet\, aby čerpal inspiraci pro svůj hiphop. Ale co může dělat\, Kraken se rozhodl. Kraken je šéf. Nezbývá mu než dál skládat svůj hipec s kamarádem bláznem Vildou.Téma české malosti není vlastně nikterak originální\, ale vtipným shozením se stala inscenace hodná pozornosti. Chytrý a nápaditý text s nespočtem vtipných slovních hříček\, které ve výsledku slouží myšlence.Motto: „Nesmím chodit do Domina\, panuje tu špatný klima.“Toto představení převzalo Dejvické divadlo z A studia Rubín\, Praha.Hrají: Jan Plouhar\, Pavel Šimčík\, Lukáš PříkazkýRežie: Jan PrušinovskýDélka představení: 60 minut\, bez přestávkyPremiéra: 3. listopadu 2013Termín představení ve Strážnici: 25. srpna 2023Vstupné: 300 Kč v předprodej/ 450 Kč na místě
LOCATION:Strážnice
END:VEVENT
END:VCALENDAR