BEGIN:VCALENDAR
VERSION:2.0
CALSCALE:GREGORIAN
PRODID:-//MyApp//Calendar 1.0//EN
BEGIN:VEVENT
METHOD:PUBLISH
UID:34026@regionalniportaly.cz
DTSTAMP:20260421T222007Z
DTSTART;VALUE=DATE:20230907
DTEND;VALUE=DATE:20230908
SUMMARY:Přelet nad kukaččím hnízdem (Divadlo Radka Brzobohatého)
DESCRIPTION:PŘELET NAD KUKAČČÍM HNÍZDEM\, klasické drama napsané Kenem Keseyem. Představení Vás zavede do světa duševně nemocných pacientů\, kteří se snaží překonat své problémy a najít vnitřní sílu k životu. Sledujte dechberoucí příběh Randle McMurphyho\, který se vydává na hranici svého vlastního šílenství\, aby ukázal pacientům\, že se mohou stát svými vlastními pány.Více informací zveřejníme co nejdříve.&nbsp\;
LOCATION:Strážnice
END:VEVENT
END:VCALENDAR