BEGIN:VCALENDAR
VERSION:2.0
CALSCALE:GREGORIAN
PRODID:-//MyApp//Calendar 1.0//EN
BEGIN:VEVENT
METHOD:PUBLISH
UID:34052@regionalniportaly.cz
DTSTAMP:20260421T224242Z
DTSTART;VALUE=DATE:20230729
DTEND;VALUE=DATE:20230730
SUMMARY:Vzpomínkový den NAGANO 98 (25 let od ZOH NAGANO)
DESCRIPTION:&nbsp\;Přidejte se k oslavě 25 let od historického vítězství v Nagano! Nagano ve Strážnici je celodenní akce plná vzpomínek na zlaté olympijské medaile z roku 1998.&nbsp\;&nbsp\;Datum: 29.7.&nbsp\;Začátek: 14:00&nbsp\;Místo: Letní kino ve Strážnici\, amfiteátr Zahrada v Zámeckém parkuProgram akce je plný zábavy pro všechny věkové kategorie:&nbsp\;Dovednostní soutěže pro děti&nbsp\;Skákací hrad a bublikátor&nbsp\;Jízda na koni&nbsp\;Odpolední projekce dokumentu "Nagano Tapes" na velkoplošné televizi&nbsp\;Koncert oblíbené kapely&nbsp\;Autogramiáda zlatých hokejistů z Nagana&nbsp\;Projekce filmu "Děti Nagana" s besedou s herci a režisérem Danem Pánkem&nbsp\;Vstupné: 200 KčPřijďte oslavit tento historický moment společně s námi! Buďte součástí Nagana ve Strážnici a prožijte den plný vzpomínek\, zábavy a sportovního ducha!&nbsp\;
LOCATION:Strážnice
END:VEVENT
END:VCALENDAR