BEGIN:VCALENDAR
VERSION:2.0
CALSCALE:GREGORIAN
PRODID:-//MyApp//Calendar 1.0//EN
BEGIN:VEVENT
METHOD:PUBLISH
UID:34579@regionalniportaly.cz
DTSTAMP:20260422T053706Z
DTSTART;VALUE=DATE:20230916
DTEND;VALUE=DATE:20230917
SUMMARY:Lednický PÁLAVAFEST
DESCRIPTION:Přijd´te to s námi rozjet na LEDNICKÝ PÁLAVAFEST 2023 - hudební festival!!! 16.9 2023 ve venkovním areálu vinařství ANNOVINO zahraje Petr Bende\,Vojtaano\,Realita\,Josef Vališ\,Jiří Zonyga\, a mnoho dalších!Doprovodný prgram Lunapark Rudolfa Kučery pro děti je samozřejmostí jako ta nejkvalitnější vína\,burčáky a nejrůznější dobroty.Těšíme se na vás&nbsp\;
LOCATION:Lednice
END:VEVENT
END:VCALENDAR