BEGIN:VCALENDAR
VERSION:2.0
CALSCALE:GREGORIAN
PRODID:-//MyApp//Calendar 1.0//EN
BEGIN:VEVENT
METHOD:PUBLISH
UID:35181@regionalniportaly.cz
DTSTAMP:20260422T101814Z
DTSTART;VALUE=DATE:20231021
DTEND;VALUE=DATE:20231022
SUMMARY:Výběr z bobulí - inspirativní setkání s řečníky
DESCRIPTION:AKCE VE STYLU TEDx NEBO&nbsp\;PECHAKUCHA V HODONÍNĚ? ANO\, UŽ 21. ŘÍJNA 2023!Srdečně zveme širokou veřejnost\, skauty i neskauty na akci Výběr z bobulí aneb inspirativní setkání s řečníky\, které proběhne ve stylu světově známých TEDx konferencí nebo PechaKucha večerů. Přijďte načerpat inspiraci a vědomosti hned z několika zajímavých oborů a užít si společně krásné podzimní odpoledne. 🍂&nbsp\;Můžete se těšit na následující řečníky:- Pavel Čadek (Ori) -&nbsp\;Cesta na vrchol cellofolku- Štěpán Káňa (Káně) - O Pravdě a Lásce v dobách nesvobody- Zuzana Veverková - Mezi stromy a lidmi- PhDr. Marek Vařeka\, Ph.D. -&nbsp\;Hodonín město na zemské hranici - minulost a současnost.&nbsp\;Řečníci Vám přijedou předat informace\, vědomosti a příběhy hodné sdílení\, přijedou Vás také inspirovat a motivovat do možná ještě Vámi neozkoušených aktivit. Zkrátka společně zažijeme něco neopakovatelného\, proto u toho nesmíte chybět!&nbsp\;Vstupné: 100 KčStart akce: 15:00Místo:&nbsp\;Sál Evropa Hodonín\,&nbsp\;Národní tř. 1472/21\, 695 01 HodonínObčerstvení zajištěno.&nbsp\;
LOCATION:Hodonín
END:VEVENT
END:VCALENDAR