BEGIN:VCALENDAR
VERSION:2.0
CALSCALE:GREGORIAN
PRODID:-//MyApp//Calendar 1.0//EN
BEGIN:VEVENT
METHOD:PUBLISH
UID:35196@regionalniportaly.cz
DTSTAMP:20260422T101824Z
DTSTART;VALUE=DATE:20231103
DTEND;VALUE=DATE:20231104
SUMMARY:Travesti revue Techtle Mechtle - Újezd u Brna
DESCRIPTION:Nejúspěšnější česká travesti show TECHTLE MECHTLE&nbsp\;přiváží novou divadelní show&nbsp\;DOKUD NÁS SMRT NEROZDĚLÍ&nbsp\;do Újezdu u Brna!"V dobrém i ve zlém\, dokudnás smrt nerozdělí..." Tuhle větu řekla minimálně jednou za život snad většina z Vás. Ti odvážnější i vícekrát. Travesti skupina Techtle Mechtle si tentokrát ve svém pořadu posvítí na to\, jak vypadá takové manželství po 30 letech pod jednou střechou. Jediná dcera už odrostla a z počátečního zamilování a okouzlení jste se už dávno probudili. Život a manželství jsou zkrátka boj a vyhrát musí v ideálním případě oba.Divadelní show\, ve které se místy budete cítit jako u Vás doma v obýváku\, míří do našeho města. Muzikálovo-taneční\, divadelní představení\, ve kterém uvidíte za jeden večer zhruba 80 kostýmů\, propracované taneční choreografie a vtipné scénky z manželství\, které píše sám život.Skupina Techtle Mechtle připravuje každý rok nové představení\, které je vždy jejich vlastní tvorbou\, a to od návrhu kostýmů\, výpravné jevištní scény\, paruk\, dekorací až po samotný scénář celého představení. Pánové Lukáš\, Martin\, Nikolas a Saša se svou posádkou míří za Vámi!Show této skupiny ve většině měst bývá vyprodána i několik měsíců dopředu a za poslední roky se těší na poli české divadelní scény stále větší oblibě.Více na:&nbsp\;techtle mechtle revue&nbsp\;/&nbsp\;www.techtlemechtlerevue.cz
LOCATION:Újezd u Brna
END:VEVENT
END:VCALENDAR