BEGIN:VCALENDAR
VERSION:2.0
CALSCALE:GREGORIAN
PRODID:-//MyApp//Calendar 1.0//EN
BEGIN:VEVENT
METHOD:PUBLISH
UID:35203@regionalniportaly.cz
DTSTAMP:20260421T221850Z
DTSTART;VALUE=DATE:20231014
DTEND;VALUE=DATE:20231015
SUMMARY:Sodoma Gomora + Elektrick Mann
DESCRIPTION:Zvrhlíci SODOMA GOMORA\, ELEKTRÏCK MANN a ASTRAL ONE zavítají v říjnu k nám do Hradiště! K tomu snad není co dodat. Asi jen to\, že to bude pořádně zvrácená párty!!!
LOCATION:Uherské Hradiště
END:VEVENT
END:VCALENDAR