BEGIN:VCALENDAR
VERSION:2.0
CALSCALE:GREGORIAN
PRODID:-//MyApp//Calendar 1.0//EN
BEGIN:VEVENT
METHOD:PUBLISH
UID:35308@regionalniportaly.cz
DTSTAMP:20260422T040452Z
DTSTART;VALUE=DATE:20231021
DTEND;VALUE=DATE:20231022
SUMMARY:Hodové folklorní taneční - Kopanický čardáš
DESCRIPTION:V rámci příprav na Svatomartinské hody ve Strážnici vás folklorní soubor Demižón zve na folklorní taneční pro veřejnost.&nbsp\;Kdy:&nbsp\;21.října 2023 v 16:00Kde:&nbsp\;Strážnice\, Masarykova 370 - Tělocvična Orlovny (vchod z uličky)Co:&nbsp\;Kopanický čardášLektor:&nbsp\;manželé Janovští (FS Kopaničár) ze ŽítkovéVěkové omezení:&nbsp\;Není! Akce je určena pro všechny věkové kategorie.&nbsp\;Vstup&nbsp\;není podmíněn&nbsp\;přivedením tanečního partnera\, ale jelikož se jedná o párové tance\, je to určitě výhoda.&nbsp\;S sebou pohodlné sportovní sálové oblečení a dobrou náladu.Možnost koupě menšího občerstvení zajištěna.
LOCATION:Strážnice
END:VEVENT
END:VCALENDAR