BEGIN:VCALENDAR
VERSION:2.0
CALSCALE:GREGORIAN
PRODID:-//MyApp//Calendar 1.0//EN
BEGIN:VEVENT
METHOD:PUBLISH
UID:35309@regionalniportaly.cz
DTSTAMP:20260422T053716Z
DTSTART;VALUE=DATE:20231028
DTEND;VALUE=DATE:20231029
SUMMARY:Hodové folklorní taneční - Strážnický danaj
DESCRIPTION:V rámci příprav na Svatomartinské hody ve Strážnici vás folklorní soubor Demižón zve na folklorní taneční pro veřejnost.&nbsp\;Kdy: 28.října 2023 v 16:00Kde:&nbsp\;Strážnice\, Masarykova 370 - Tělocvična Orlovny (vchod z uličky)Co: Strážnický danajLektor:&nbsp\;Filip Stanislav a Jana Vaďurová (FS Demižón) ze StrážniceVěkové omezení:&nbsp\;Není! Akce je určena pro všechny věkové kategorie.&nbsp\;Vstup&nbsp\;není podmíněn&nbsp\;přivedením tanečního partnera\, ale jelikož se jedná o párové tance\, je to určitě výhoda.&nbsp\;S sebou pohodlné sportovní sálové oblečení a dobrou náladu.Možnost koupě menšího občerstvení zajištěna.
LOCATION:Strážnice
END:VEVENT
END:VCALENDAR