BEGIN:VCALENDAR
VERSION:2.0
CALSCALE:GREGORIAN
PRODID:-//MyApp//Calendar 1.0//EN
BEGIN:VEVENT
METHOD:PUBLISH
UID:36055@regionalniportaly.cz
DTSTAMP:20260422T115443Z
DTSTART;VALUE=DATE:20231201
DTEND;VALUE=DATE:20231202
SUMMARY:Beef Banana Tour - DENOI / Goofy Cow / Janet A
DESCRIPTION:
LOCATION:Hodonín
END:VEVENT
END:VCALENDAR