BEGIN:VCALENDAR
VERSION:2.0
CALSCALE:GREGORIAN
PRODID:-//MyApp//Calendar 1.0//EN
BEGIN:VEVENT
METHOD:PUBLISH
UID:36378@regionalniportaly.cz
DTSTAMP:20260422T150524Z
DTSTART;VALUE=DATE:20231215
DTEND;VALUE=DATE:20231216
SUMMARY:Vánoční galakoncert Polyfonia & Ars Musica Vocalis
DESCRIPTION:Unikátní mezinárodní studentský projekt! Pěvecký sbor Polyfonia z Gymnázia Břeclav vystoupí se svými přáteli z německého Northeimu -&nbsp\;sborem Ars Musica Vocalis a souborem Corvi Jazzband.V programu zazní tradiční i moderní vánoční písně\, duchovní skladby\, jakož i úpravy populárních a muzikálových melodií. Projekt podpořil Česko-německý fond budoucnosti.
LOCATION:Valtice
END:VEVENT
END:VCALENDAR