BEGIN:VCALENDAR
VERSION:2.0
CALSCALE:GREGORIAN
PRODID:-//MyApp//Calendar 1.0//EN
BEGIN:VEVENT
METHOD:PUBLISH
UID:36552@regionalniportaly.cz
DTSTAMP:20260422T133750Z
DTSTART;VALUE=DATE:20231209
DTEND;VALUE=DATE:20231210
SUMMARY:Vánoční koncert Mistříňanky
DESCRIPTION:Zveme vás na Vánoční koncert dechové kapely Mistříňanka. Dechovou hudbu založili bratři Antonín a Josef Pavlušovi a současným kapelníkem je František Pavluš. Za dobu své existence kapela dokázala získat mnoho úspěchů a ocenění. V roce 1975 pod taktovkou Josefa Frýborta získala jako první kapela z Moravy Zlatou křídlovku a následovala řada ocenění v domácích i zahraničních soutěžích. Mistříňanku slýcháme na koncertech\, festivalech\, v rozhlasových a televizních pořadech\, dokázala si vybudovat\, jako jedna z mála\, vlastní hudební vydavatelství a nahrávací studio.
LOCATION:Hlohovec
END:VEVENT
END:VCALENDAR