BEGIN:VCALENDAR
VERSION:2.0
CALSCALE:GREGORIAN
PRODID:-//MyApp//Calendar 1.0//EN
BEGIN:VEVENT
METHOD:PUBLISH
UID:36869@regionalniportaly.cz
DTSTAMP:20260422T103318Z
DTSTART;VALUE=DATE:20240127
DTEND;VALUE=DATE:20240128
SUMMARY:Okus vín 2024
DESCRIPTION:18.ročník tradičního kurdějovského okusu vín. Nově již od 11:00.Zveme Vás na tradiční ochutnávku vín nejenom z Moravy a Čech\, ale z i vybraných zahraničních oblastí.Přijďte si ochutnat vína z kurdějovského terroiru\, jehož vína jsou hodnocena nejlepšími sommeliéry ČR v rámci klasifikačního systému kvality vín "Apelace Kurdějov"\, malovinařů a spičkových vinařství z celé ČR\, ale i vybraná zahraniční vína.Cena vstupenky: na místě: 550\,- Kč / v předprodeji: 450\,- Kč(vstupenka obsahuje: 1 sklenku\, katalog\, propisku) zároveň si užijete neomezenou konzumaci vín.Výstava proběhne v tradičních prostorech obce Kurdějov\, Farním sklepě\, hotelu Vinař a v Art Wine Hall\, kde Vám letos nabídneme nově o ochutnávku šumivých vín.Program:11:00 Zahájení koštu17:00 - 22:00 Cimbálová muzika v hlavní hale\, hraje CM Stupava22:00 Ukončení koštu
LOCATION:Kurdějov
END:VEVENT
END:VCALENDAR