BEGIN:VCALENDAR
VERSION:2.0
CALSCALE:GREGORIAN
PRODID:-//MyApp//Calendar 1.0//EN
BEGIN:VEVENT
METHOD:PUBLISH
UID:37107@regionalniportaly.cz
DTSTAMP:20260422T085250Z
DTSTART;VALUE=DATE:20240120
DTEND;VALUE=DATE:20240121
SUMMARY:VANESSA ( best of tour ) & Samhain
DESCRIPTION:Elektronická formace Vanessa\, působící na české hudební scéně od roku 1990\,&nbsp\; vydala své první best of dvojalbum k výročí 33 let existence. Tato česká legenda\, známá svými kontroverzními a provokativními vystoupeními vchází do „kristových let“\, a proto na podzim 2023 a počátkem roku 2024 i v klubu Mír představí dokonalý průřez svou dosavadní tvorbou. Skupina se proslavila schopností přinášet jedinečnou kombinaci syrových zvuků\, textů plných jedovatosti a nekompromisního pohledu na svět. Vanessa umí šokovat a pobuřovat pokrytce\, zatímco milovníky tvrdé elektronické hudby vždycky nadchla dokonalou autentičností.Svojí surovou a údernou tvorbou se vždy vymykala pravidlům\, čímž se stala jednou z nejkultovnějších českých skupin. „Lidé nechodí na Vanessu jen proto\, aby se bavili\, ale aby prohlédli skrz brutální grimasu reality\,“ říká Samir Hauser\, diktátor pokleslého vkusu a zakladatel skupiny.Samhain je slovenský dark idm elektronický počin\, který je obrovským komplexem konzistentních atmosfér\, industriálních bloků a&nbsp\;křišťálové elektroniky.
LOCATION:Uherské Hradiště
END:VEVENT
END:VCALENDAR