BEGIN:VCALENDAR
VERSION:2.0
CALSCALE:GREGORIAN
PRODID:-//MyApp//Calendar 1.0//EN
BEGIN:VEVENT
METHOD:PUBLISH
UID:38069@regionalniportaly.cz
DTSTAMP:20260422T115609Z
DTSTART;VALUE=DATE:20240203
DTEND;VALUE=DATE:20240204
SUMMARY:28. divadelní bál aneb Hvězdný Hollywood
DESCRIPTION:K tanci či poslechu bude hrát oblíbený Salónní orchestr pod taktovkou koncertního mistra\, pana Františka Školaře. O půlnoci se o hudbu k tanci a zpěvu postará cimbálová muzika Vonica s primášem Františkem Korábem.
LOCATION:Boleradice
END:VEVENT
END:VCALENDAR