BEGIN:VCALENDAR
VERSION:2.0
CALSCALE:GREGORIAN
PRODID:-//MyApp//Calendar 1.0//EN
BEGIN:VEVENT
METHOD:PUBLISH
UID:38090@regionalniportaly.cz
DTSTAMP:20260422T204127Z
DTSTART;VALUE=DATE:20240422
DTEND;VALUE=DATE:20240423
SUMMARY:Kafe u OSMANYHO | Hodonín (přístavky)
DESCRIPTION:Z důvodu velkého zájmu jsme se rozhodli přidat poslední volná místa v podobě přístavků!&nbsp\;Zábavný pořad plný neuvěřitelných historek v podání Osmanyho Laffity míří do Hodonína!Originální pořad s populární osobností módního světa.Devadesát minut neuvěřitelných historek ze života Osmanyho Laffity\, při kterých se divák baví od první chvíle. Osmany odhalí i to\, co mělo zůstat utajeno! A bez cenzury!Moderuje Eva Decastelo\, hudební host Bára Mottlová.
LOCATION:Hodonín
END:VEVENT
END:VCALENDAR