BEGIN:VCALENDAR
VERSION:2.0
CALSCALE:GREGORIAN
PRODID:-//MyApp//Calendar 1.0//EN
BEGIN:VEVENT
METHOD:PUBLISH
UID:38688@regionalniportaly.cz
DTSTAMP:20260422T092525Z
DTSTART;VALUE=DATE:20240628
DTEND;VALUE=DATE:20240629
SUMMARY:Zážitková etiketa s Ladislavem Křížkem ve vinařství
DESCRIPTION:&nbsp\;28.6.&nbsp\;2024 - příjezd od 13h\, ubytování16h&nbsp\; &nbsp\; &nbsp\; &nbsp\; - zábavně vzdělávací kvíz na téma: Etiketa&nbsp\; &nbsp\; &nbsp\; &nbsp\; &nbsp\; &nbsp\; &nbsp\; - dárek pro účastníky: 2 láhve vína&nbsp\; &nbsp\; &nbsp\; &nbsp\; &nbsp\; &nbsp\; &nbsp\; - malé občerstvení\, káva17h&nbsp\; &nbsp\; &nbsp\; &nbsp\; - vystoupení Ladislava Křížka18h&nbsp\; &nbsp\; &nbsp\; &nbsp\; - degustace vína\, která trvá cca 6h&nbsp\;&nbsp\; &nbsp\; &nbsp\; &nbsp\; &nbsp\; &nbsp\; &nbsp\; - 10 - 15 vzorků vína&nbsp\; &nbsp\; &nbsp\; &nbsp\; &nbsp\; &nbsp\; &nbsp\; -&nbsp\;Podávat budeme moravské speciality (uzené\, slaninu\, klobásy\, sýry\,&nbsp\; zeleninu\, pečivo\, domácí pomazánky\, škvarky\, tlačenku a další dobroty)\,&nbsp\;popř. něco z grilu.Požadavky na ubytování je potřeba sdělit na :&nbsp\;info@katherine-spolek.cz
LOCATION:Mutěnice
END:VEVENT
END:VCALENDAR