BEGIN:VCALENDAR
VERSION:2.0
CALSCALE:GREGORIAN
PRODID:-//MyApp//Calendar 1.0//EN
BEGIN:VEVENT
METHOD:PUBLISH
UID:39261@regionalniportaly.cz
DTSTAMP:20260422T103144Z
DTSTART;VALUE=DATE:20240309
DTEND;VALUE=DATE:20240310
SUMMARY:PESTROVEČER 2024
DESCRIPTION:V kouzelném předjaří\, v sobotu 9. března\, se bude již po sedmnácté konat multižánrový festival Pestrovečer v kulturním domě Mikulčice.Na co se můžete těšit?KONCERTY:Mucha: brněnská pseudopunková formaceP/\\ST: experimentální rap s nášlapem do tvrdé&nbsp\;elektronikyŠoulet: polka-punkový šraml\, jenž svými libými tóny rozezní ulice\, pódia i taneční sály a přináší radost a mírNeoveská CM: cimbálka v netradičním aranžmá+&nbsp\;DIVADLO&nbsp\;Víti Marčíka ml.\, inscenace Dracula:&nbsp\;Jde o divadelní zpracování stejnojmenného románu od Brama Stokera v kombinaci s knihou Luciferův efekt od psychologa Philipa G. Zimbarda....ale také&nbsp\;výtvarné výstavy\, přednášky\, diskuse a tvořivá atmosféra\, která vás vtáhne.Přijďte oslavit bohatství uměleckého a společenského života v našem regionu a strávit příjemný čas s přáteli.
LOCATION:Mikulčice
END:VEVENT
END:VCALENDAR