BEGIN:VCALENDAR
VERSION:2.0
CALSCALE:GREGORIAN
PRODID:-//MyApp//Calendar 1.0//EN
BEGIN:VEVENT
METHOD:PUBLISH
UID:39306@regionalniportaly.cz
DTSTAMP:20260422T085139Z
DTSTART;VALUE=DATE:20240420
DTEND;VALUE=DATE:20240421
SUMMARY:EPOQUE QUARTET
DESCRIPTION:Na koncertu zazní mimo jiné melodie z filmů: Pulp Fiction\, Kmotr\, Psycho\, Fantomas\, Schindlerův seznam\,&nbsp\;Čtyři vraždy stačí\,drahoušku\, Medley z filmů Jiřího Menzela\, Třicet případů majora Zemana a mnoho jiných....
LOCATION:Mikulčice
END:VEVENT
END:VCALENDAR