BEGIN:VCALENDAR
VERSION:2.0
CALSCALE:GREGORIAN
PRODID:-//MyApp//Calendar 1.0//EN
BEGIN:VEVENT
METHOD:PUBLISH
UID:39441@regionalniportaly.cz
DTSTAMP:20260422T085149Z
DTSTART;VALUE=DATE:20240310
DTEND;VALUE=DATE:20240311
SUMMARY:Den Blbec\, Divadlo Pecka Uherské Hradiště
DESCRIPTION:Robert BellanDen BlbecKrimi parodie na motivy hry W. Shakespeara Romeo a Julie.Major Vetchý a poručík Tichý vyšetřují záhadnou smrt dvou Shakespearovských postav - Tybalta a Merkutia. Dva rody\, oba stejně vážné\, jež vedou léta proti sobě boj\, zas vyvolali nový nepokoj. Smrtí však klasický příběh nekončí\, smrtí začíná a na konci budete se smát. Nebo bát.&nbsp\;Nebo smát a plakat. Nebo spát. Jak se vám líbí! Ale to už je jiná komedie.V původní Shakespearově hře Romeo a Julie funguje celkem 27 postav. Obvykle divadla při nasazení této klasiky obsadí každého\, kdo je po ruce: vrátné\, kulisáky\, špatné herce na odpočinku\, údržbáře\, děvčata z kanceláří. V této hře rozhodně tolik špatných herců neuvidíte. Z praktických i kvalitativních důvodu jsme se totiž rozhodli zahrát vám tento kus pouze v pěti lidech. Ale nebojte se\, o žádnou ze známých Shakespearových postav ochuzeni nebudete. Dokonce jsme ještě dvě nové hlavní postavy přidali. A pokud se vám vlídně na tuto taškařici hledět zlíbí\, svou snahou nahradíme\, co nám chybí.Hrají: D. Macháček\, M. Vrtáček\, A. Pospíchalová\, M. Horká\, &nbsp\; &nbsp\; &nbsp\; &nbsp\; &nbsp\; D. Vaculík/V. Gabrhelík&nbsp\;&nbsp\;
LOCATION:Ratíškovice
END:VEVENT
END:VCALENDAR