BEGIN:VCALENDAR
VERSION:2.0
CALSCALE:GREGORIAN
PRODID:-//MyApp//Calendar 1.0//EN
BEGIN:VEVENT
METHOD:PUBLISH
UID:39987@regionalniportaly.cz
DTSTAMP:20260424T075331Z
DTSTART;VALUE=DATE:20240327
DTEND;VALUE=DATE:20240328
SUMMARY:SEMIFINÁLE European Champions League Women
DESCRIPTION:SEMIFINÁLE LIGY&nbsp\;MISTRŮ EVROPSKÉ ASOCIACE STOLNÍHO TENISUSKST PLUS Hodonín&nbsp\;vs.&nbsp\;Etival Clairefontaine ASRTT /FRA/ Středa&nbsp\; 27. března 2024 - 18:00\, Sportovní hala TEZA Hodonín\, Lipová alej 23Historický moment pro klubový stolní tenis v České republice.&nbsp\;Nenechejte si ujít špičkový stolní tenis nejvyšší světové&nbsp\;úrovně.&nbsp\;Přijďte povzbudit českého mistra na cestě&nbsp\;do finále nejprestižnější klubové soutěže v Evropě.&nbsp\;Pro diváky je připraven doprovodný program a tombola&nbsp\;o hodnotné&nbsp\;ceny.&nbsp\;Všechny vstupenky zakoupené v předprodeji&nbsp\;jsou slosovatelné!&nbsp\;VSTUPENKYV&nbsp\;předprodeji od 1.3. do 24.3.2024Dospělí&nbsp\; &nbsp\; &nbsp\; &nbsp\; &nbsp\; &nbsp\; &nbsp\; &nbsp\; &nbsp\; &nbsp\; &nbsp\; &nbsp\; &nbsp\; &nbsp\;100 Kč&nbsp\;Mládež do 18 let&nbsp\; &nbsp\; &nbsp\; &nbsp\; &nbsp\; &nbsp\; &nbsp\;50 KčVIP stůl pro 4 osoby&nbsp\; &nbsp\; &nbsp\; &nbsp\;2.000 KčSKST HODONÍN&nbsp\; &nbsp\; &nbsp\; &nbsp\; &nbsp\; &nbsp\;&nbsp\; 50 Kč&nbsp\;V&nbsp\;předprodeji od 24.3. do 26.3.2024&nbsp\;Dospělí&nbsp\; &nbsp\; &nbsp\; &nbsp\; &nbsp\; &nbsp\; &nbsp\; &nbsp\; &nbsp\; &nbsp\; &nbsp\; &nbsp\; &nbsp\; &nbsp\;150 Kč&nbsp\;Mládež do 18 let&nbsp\; &nbsp\; &nbsp\; &nbsp\; &nbsp\; &nbsp\; &nbsp\;75&nbsp\;KčSKST HODONÍN&nbsp\;&nbsp\; &nbsp\; &nbsp\;&nbsp\;&nbsp\; &nbsp\; &nbsp\; 75&nbsp\;Kč&nbsp\;V den utkání&nbsp\;27.3.&nbsp\;prodej pouze na místě /vstupenka&nbsp\;není slosovatelná!/Dospělí&nbsp\; &nbsp\; &nbsp\; &nbsp\; &nbsp\; &nbsp\; &nbsp\; &nbsp\; &nbsp\; &nbsp\; &nbsp\; &nbsp\; &nbsp\; &nbsp\;200 Kč&nbsp\;Mládež do 18 let&nbsp\; &nbsp\; &nbsp\; &nbsp\; &nbsp\; &nbsp\; &nbsp\;100 KčSKST HODONÍN&nbsp\;&nbsp\; &nbsp\; &nbsp\;&nbsp\;&nbsp\; &nbsp\; &nbsp\; 100&nbsp\;KčDŮLEŽITÉ UPOZORNĚNÍ: Divácká kapacita sportovní haly je omezena a její překročení není možné. Vzhledem k očekávanému enormnímu zájmu o utkání doporučujeme včasný nákup vstupenek.&nbsp\;V případě\, že bude utkání v předprodeji vyprodáno\, nebude již možné zakoupení vstupenek přímo na místě!&nbsp\;
LOCATION:Hodonín
END:VEVENT
END:VCALENDAR