BEGIN:VCALENDAR
VERSION:2.0
CALSCALE:GREGORIAN
PRODID:-//MyApp//Calendar 1.0//EN
BEGIN:VEVENT
METHOD:PUBLISH
UID:40688@regionalniportaly.cz
DTSTAMP:20260422T092456Z
DTSTART;VALUE=DATE:20240602
DTEND;VALUE=DATE:20240603
SUMMARY:Dětský den s Maxíky
DESCRIPTION:Dětský den s MaxíkyDětský program pro děti všech věkových kategorií od 14\,00 hodin.V 15\,00 hodin vystoupení hudební skupiny Maxíci s programem Z pohádky do pohádky + autogramiáda.V doprovodném programu bude pro děti připraven skákací hrad\, malování na obličej\, tvořivé dílničky\, diskotéka s DJ Boeingem - vše v ceně vstupenky.Dále bude připravena tombola se zajímavými cenami\, fotokoutek s vytištěnou fotografií\, občerstvení\, speciality\, cukrová vata...
LOCATION:Ratíškovice
END:VEVENT
END:VCALENDAR