BEGIN:VCALENDAR
VERSION:2.0
CALSCALE:GREGORIAN
PRODID:-//MyApp//Calendar 1.0//EN
BEGIN:VEVENT
METHOD:PUBLISH
UID:42204@regionalniportaly.cz
DTSTAMP:20260422T092516Z
DTSTART;VALUE=DATE:20240714
DTEND;VALUE=DATE:20240715
SUMMARY:56. mezinárodní festival dechových hudeb Ratíškovice
DESCRIPTION:56. mezinárodní festival dechových hudeb Ratíškovice - festival Josefa Nováka.&nbsp\;Místo konání fotbalový areál Baník Ratíškovice. K dispozici krytá tribuna. Začátek je již v 11\,00 hodin.&nbsp\;V průběhu programu vystoupí mládežnické a dětské dechové kolektivy: Mladá muzika Šardice\, Spolek rodičů a přátel dětí Dechového orchestru Morava při ZUŠ Hulín.V programu dále vystoupí dechová hudba: Ištvánci ze Šardic\, Mladá Trboušanka z Trboušan\, Veselá muzika z Ratíškovic\, Pernštejnka\, Legrúti z Velkých Bílovic\, Stříbrňanka.V programu uvítáme zahraniční dechovou hudbu ze Slovenska - Skaličané.Na závěr festivalu uslyšíte monstrkoncert. Na festivalu je možno zakoupit nejnovější hudební nosiče jednotlivých kapel\, suvenýry\, kalendář na rok 2025.&nbsp\;
LOCATION:Ratíškovice
END:VEVENT
END:VCALENDAR