BEGIN:VCALENDAR
VERSION:2.0
CALSCALE:GREGORIAN
PRODID:-//MyApp//Calendar 1.0//EN
BEGIN:VEVENT
METHOD:PUBLISH
UID:42327@regionalniportaly.cz
DTSTAMP:20260423T022728Z
DTSTART;VALUE=DATE:20240713
DTEND;VALUE=DATE:20240714
SUMMARY:Motohody na Podluží XIV.
DESCRIPTION:Sobotní akce plná rockové muziky na Podluží nejen pro příznivce jedné stopy.Spanilá jízda\,soutěže (koštéř\,ertepla\,nejlepší zvuk motocyklu apod.) o skvělé ceny.Fajn náladu a stany sebou.Více info přes e-mail: podluziriders@seznam.czFacebook: http://www.facebook.com/podluzi.riders
LOCATION:Tvrdonice
END:VEVENT
END:VCALENDAR