BEGIN:VCALENDAR
VERSION:2.0
CALSCALE:GREGORIAN
PRODID:-//MyApp//Calendar 1.0//EN
BEGIN:VEVENT
METHOD:PUBLISH
UID:43804@regionalniportaly.cz
DTSTAMP:20260422T092425Z
DTSTART;VALUE=DATE:20240817
DTEND;VALUE=DATE:20240818
SUMMARY:Otevřené vinné sklepy v Čejči
DESCRIPTION:Přátelé dobrého vína a moravského folklóru a zábavy!Zahrádkáři z Čejče spolu s vinaři vás srdečně zvou k návštěvě naší obce. Přijďte v sobotu 17. srpna 2024 a budete přivítáni v krásném areálu vinných sklepů Pod Búdama. Od 11 do 18 hodin je právě pro vás připraven již 19. ročník – Otevřených vinných sklepů v Čejči. V nejméně 20 vinných sklepech budete mít možnost ochutnat to nejlepší od čejčských vinařů. V každém sklepě bude připraveno minimálně 7 vzorků\; ale celkový počet bývá vyšší než 250 vzorků. Občerstvení zajišťuje cateringová firma Vlastimil Voznica. Těšit se můžete na tradiční speciality\, burgery\, trhané maso i nedělní snídani.V průběhu dne k dobré pohodě přispěje mužský pěvecký sbor z&nbsp\;Hovoran a Žarošic\, který zazpívá u každého sklepa. V&nbsp\;16 hod. je pro vás připravený exhibiční seskok 12 parašutistů z&nbsp\;Moravy\, přímo do areálu vinných sklepů. Po skončení degustování od 18 hodin začíná ve stejném prostoru Beseda u cimbálu s cimbálovou muzikou Mládí z Čejče. Po besedě u cimbálu začíná zábava s&nbsp\;rockovou kapelou Bigbity rock.&nbsp\;Ve vstupném je obsaženo:•plánek areálu se seznamem vinařů a vzorků•degustační sklenička•propiska s taštičkou na krk•oprávnění volné degustace v označených sklepech•vstup na Besedu u cimbálu a večerní zábavu s&nbsp\;kapelou Bigbity rock.&nbsp\;Součástí vstupenky jsou 3 kupony /každý v hodnotě 100\,- Kč/k odběru vína. Kupóny lze uplatnit během otevřených sklepů\, ale i v neděli 18. 8. 2024&nbsp\;od 9 do 12 hodin.Vstup na místě 1000 Kč. Vstupenky z předprodeje budou ověřovány přímo v areálu sklepů\, vedle pokladny v den konání akce. Zakoupením vstupenky v předprodeji ve výši 900\,- Kč\, šetříte proti nákupu na místě 100\,- Kč.&nbsp\;Co je u nás navíc?Parkování a možnost stanování s hygienickým zázemím přímo v areálu zdarma. Hudební zábava s&nbsp\;cimbálovou muzikou a rockovou kapelou. Připraven je pro vás seskok 12 parašutistů\, přímo do areálu vinných sklepů.V našem rodinném a velmi příjemném prostředí bez veřejného provozu se občerstvíte i v neděli nasnídáte. Vše zajišťuje cateringová firma VV. Ve sklepech je k dispozici degustační sousto (chléb\, sýr\, voda).Ubytování doporučujeme zajistit v Čejči a okolních obcích Hovorany\, Čejkovice\, Mutěnice\, Kobylí\, co nejdříve.&nbsp\;Potřebujete poradit?+420&nbsp\;739&nbsp\;032&nbsp\;901 – Vlastimil Veselý - předseda spolku.FB Vinaři Zahrádkáři a vinaři z Čejče\,&nbsp\;www.cejc.cz
LOCATION:Čejč
END:VEVENT
END:VCALENDAR