BEGIN:VCALENDAR
VERSION:2.0
CALSCALE:GREGORIAN
PRODID:-//MyApp//Calendar 1.0//EN
BEGIN:VEVENT
METHOD:PUBLISH
UID:43850@regionalniportaly.cz
DTSTAMP:20260422T104857Z
DTSTART;VALUE=DATE:20240721
DTEND;VALUE=DATE:20240722
SUMMARY:Zápisník alkoholičky
DESCRIPTION:Každej se někdy napije...Jak snadné je propadnout závislosti\, jak těžké si ji připustit a pak se z&nbsp\;ní dostat? Zápisník alkoholičky je upřímnou filmovou zpovědí abstinující alkoholičky a nemoralizujícím pohledem na to\, jak pijí ženy. Stejně jako v Úsměvech smutných mužů v&nbsp\;něm režisér Dan Svátek vychází ze skutečného příběhu a zachycuje nejen pád na společenské dno\, ale taky momenty\, kterým se nejde nezasmát.V&nbsp\;hlavní roli exceluje Tereza Ramba.
LOCATION:Ratíškovice
END:VEVENT
END:VCALENDAR