BEGIN:VCALENDAR
VERSION:2.0
CALSCALE:GREGORIAN
PRODID:-//MyApp//Calendar 1.0//EN
BEGIN:VEVENT
METHOD:PUBLISH
UID:44110@regionalniportaly.cz
DTSTAMP:20260424T103852Z
DTSTART;VALUE=DATE:20240724
DTEND;VALUE=DATE:20240725
SUMMARY:Kung Fu Panda 4
DESCRIPTION:Hrdina animované ságy&nbsp\;Kung Fu Panda&nbsp\;už mnohokrát prokázal\, že si titul „Dračí bojovník“ navzdory všemu (zejména své nemotornosti) skutečně zaslouží. Pod odborným dohledem Mistra Šifu\, se stará o to\, aby jeho rodné Údolí klidu dostálo svému názvu. Jenže jeho mentor si teď usmyslel\, že Po by měl povýšit a stát se duchovním vůdcem celého údolí a tím pádem také vybrat svého nástupce do role Dračího bojovníka. To se pandímu hrdinovi moc nezamlouvá\, protože o duchovním vedení toho ví ještě mnohem míň\, než na startu své hrdinské kariéry věděl o kung fu. Úvahy o novém ochránci Údolí klidu naneštěstí přeruší mocná čarodějnice\, která je sice původem chameleón\, jenže je to vlastně jedno\, protože se dokáže proměnit prakticky v&nbsp\;kohokoliv. A tahle potvora se právě rozhodla\, že získá bojové dovednosti od všech legendárních kung fu bojovníků\, které Po v&nbsp\;minulosti porazil. Věří totiž\, že jejich spojením se z&nbsp\;ní stane monstrum\, na které bude i Dračí bojovník krátký. Po tedy musí ještě na čas odložit duchovno k&nbsp\;ledu\, vyhrnout si rukávy a pustit se do poctivé kung fu práce.&nbsp\;
LOCATION:Ratíškovice
END:VEVENT
END:VCALENDAR