BEGIN:VCALENDAR
VERSION:2.0
CALSCALE:GREGORIAN
PRODID:-//MyApp//Calendar 1.0//EN
BEGIN:VEVENT
METHOD:PUBLISH
UID:44187@regionalniportaly.cz
DTSTAMP:20260424T174813Z
DTSTART;VALUE=DATE:20240915
DTEND;VALUE=DATE:20240916
SUMMARY:Roman Dragoun - Stín mý krve
DESCRIPTION:Pořad&nbsp\;„Stín mý krve“&nbsp\;je koncipován jako „one man show“ a je pro klubová pódia přímo ideální. Páteř tvoří písně z obou sólových alb i skladby z připravované desky. Pamětníci nepřijdou ani o skladby&nbsp\;Juliet\,&nbsp\;Zdroj&nbsp\;nebo&nbsp\;Vodu. Víra\, láska a pokora se jako červená nit táhnou tvorbou Romana Dragouna. Otevřete svá srdce\, protože i hudba může být očisťující a čas se může alespoň na chvíli zastavit.Více info zde:&nbsp\;https://www.romandragoun.cz/historie/
LOCATION:Mikulčice
END:VEVENT
END:VCALENDAR