BEGIN:VCALENDAR
VERSION:2.0
CALSCALE:GREGORIAN
PRODID:-//MyApp//Calendar 1.0//EN
BEGIN:VEVENT
METHOD:PUBLISH
UID:44911@regionalniportaly.cz
DTSTAMP:20260424T193731Z
DTSTART;VALUE=DATE:20240824
DTEND;VALUE=DATE:20240825
SUMMARY:Goodbay Summer
DESCRIPTION:Goodbay Summer&nbsp\;Přijď si užít hudbu a jedinečnou atmosféru ostrovů na Baťově kanálu!&nbsp\;Co můžeš čekat:&nbsp\;2x stage&nbsp\;1x Main stage (komerce a taneční hudba)&nbsp\;1x DnB menší stage&nbsp\;Alko tombola (freedrinky\, dárky od našich alko partnerů)&nbsp\;Akční drinky&nbsp\;Předprodej:&nbsp\;1 vlna: 100\,- (brzy v síti smsticket)2 vlna: 130\,-&nbsp\;Na místě: 150\,-&nbsp\;&nbsp\;
LOCATION:Sudoměřice
END:VEVENT
END:VCALENDAR